BEGIN:VCALENDAR
VERSION:2.0
PRODID:-//Peace River Forage Association - ECPv6.15.14//NONSGML v1.0//EN
CALSCALE:GREGORIAN
METHOD:PUBLISH
X-ORIGINAL-URL:https://peaceforage.bc.ca
X-WR-CALDESC:Events for Peace River Forage Association
REFRESH-INTERVAL;VALUE=DURATION:PT1H
X-Robots-Tag:noindex
X-PUBLISHED-TTL:PT1H
BEGIN:VTIMEZONE
TZID:America/Dawson_Creek
BEGIN:STANDARD
TZOFFSETFROM:-0700
TZOFFSETTO:-0700
TZNAME:MST
DTSTART:20240101T000000
END:STANDARD
END:VTIMEZONE
BEGIN:VEVENT
DTSTART;TZID=America/Dawson_Creek:20250916T090000
DTEND;TZID=America/Dawson_Creek:20250916T161500
DTSTAMP:20260419T235900
CREATED:20250826T064204Z
LAST-MODIFIED:20250912T195807Z
UID:8605-1758013200-1758039300@peaceforage.bc.ca
SUMMARY:Multi-Species Grazing (Sept 16th)
DESCRIPTION:Interested in using different livestock species to manage brush\, weeds and pasture health?\nLearn practical tools from multi-species grazing expert Lee Sexton. \nCome to Rob Larson’s on Tuesday SEPT 16th for classroom learning and in-field demos.  Simple lunch included. \nTargeted grazing\, using livestock as tools to manage vegetation\, fencing design/layout\, watering systems and more. \n  \nSite: 5072 Doig Road\, Rose Prairie\, BC.     Google pin: https://maps.app.goo.gl/Q3XE1CdWD23nKCFc6 \nDriving: 1hour 39min (127km) min from Dawson Creek or 43 min (52Km) from FSJ. \n   \n \n \n 
URL:https://peaceforage.bc.ca/event/multispeciesgrazing_sept16th/
LOCATION:BC
ORGANIZER;CN="Nadia Mori":MAILTO:coordinator@peaceforage.bc.ca
END:VEVENT
END:VCALENDAR