BEGIN:VCALENDAR
VERSION:2.0
PRODID:-//Peace River Forage Association - ECPv6.15.14//NONSGML v1.0//EN
CALSCALE:GREGORIAN
METHOD:PUBLISH
X-WR-CALNAME:Peace River Forage Association
X-ORIGINAL-URL:https://peaceforage.bc.ca
X-WR-CALDESC:Events for Peace River Forage Association
REFRESH-INTERVAL;VALUE=DURATION:PT1H
X-Robots-Tag:noindex
X-PUBLISHED-TTL:PT1H
BEGIN:VTIMEZONE
TZID:America/Dawson_Creek
BEGIN:STANDARD
TZOFFSETFROM:-0700
TZOFFSETTO:-0700
TZNAME:MST
DTSTART:20230101T000000
END:STANDARD
END:VTIMEZONE
BEGIN:VEVENT
DTSTART;VALUE=DATE:20241114
DTEND;VALUE=DATE:20250426
DTSTAMP:20260419T230851
CREATED:20241114T221618Z
LAST-MODIFIED:20250422T192230Z
UID:7356-1731542400-1745625599@peaceforage.bc.ca
SUMMARY:Expression of Interest for Fire Related Activities
DESCRIPTION:Have an interest in Fire Schools (Wildland Fire Training)\, Prescribed Fire or advertising on our Fire Wagons?\nPlease let us know\, by selecting tickets below\, so we can make a good plan for 2025 and keep you informed.\nFire Schools: Wildland Fire Training provides (1) training on how to fight fire safely and (2) knowledge of fire and fire behaviour.  The Training includes I100\, S100 and S185 which are all the basic courses required by BC Wildfire Service standards.   Prior to training\, participants will complete a short online course and take a brief online exam (open book) to obtain their I100.  During the 2-day training\, participants will be in-class (1st day)\, in the field (2nd day) and will complete written\, oral and field exams. \nIntermediate Fire School: Intended for people who already received Wildland Fire Training and are able/willing to step into a leadership role during rural wildfire emergency responses.  This training will include concepts around guard construction\, initial attack and working with heavy equipment.  Participants will also increase their understanding of the Incident Command Structure (ICS) and language employed during an emergency response. \nPrescribed Fire Participation: In order to take part in an Prescribed Fire during the late winter or early spring of 2025\, participants must have previously attended a Fire School (Wildland Fire Training). \nSponsorship and Logo Promotion on Fire Wagon Trailer: Display your logo on our Fire Wagons.  Fire Wagon #1 and #2\, are Wildfire Structural Protection Trailers and will be used throughout the Peace Region to support wildland firefighting in Rural Areas of the Peace Region. \n 
URL:https://peaceforage.bc.ca/event/expression-of-interest-for-fire-related-activities/
LOCATION:BC
ORGANIZER;CN="Nadia Mori":MAILTO:coordinator@peaceforage.bc.ca
END:VEVENT
BEGIN:VEVENT
DTSTART;TZID=America/Dawson_Creek:20250311T133000
DTEND;TZID=America/Dawson_Creek:20250311T160000
DTSTAMP:20260419T230851
CREATED:20250131T224301Z
LAST-MODIFIED:20250310T221248Z
UID:7765-1741699800-1741708800@peaceforage.bc.ca
SUMMARY:Dollars & Cents in Agriculture
DESCRIPTION:Renting vs Buying Farm Land & Equipment : how am I better off? \n2025 Market Outlook \nDoes it pay? An engaging focus group session. \n  \nProudly sponsored by FCC and Peace Region Living Lab \n  \n 
URL:https://peaceforage.bc.ca/event/dollars-cents-in-agriculture/
LOCATION:Super 8 Conference Room\, Dawson Creek\, 1440 Alaska Ave\,\, Dawson Creek\, British Columbia\, V1G 1Z5\, Canada
ORGANIZER;CN="Nadia Mori":MAILTO:coordinator@peaceforage.bc.ca
END:VEVENT
BEGIN:VEVENT
DTSTART;TZID=America/Dawson_Creek:20250324T100000
DTEND;TZID=America/Dawson_Creek:20250324T150000
DTSTAMP:20260419T230851
CREATED:20250131T223305Z
LAST-MODIFIED:20250321T051112Z
UID:7768-1742810400-1742828400@peaceforage.bc.ca
SUMMARY:Weather & Markets through the Looking Glass
DESCRIPTION:Calling all Farmers & Ranchers!  \nJoin us for a FREE event on March 24\, 2025\, at the North Peace Cultural Centre\, Fort St. John!  Lunch included \n\nWeather Outlook by world-renowned meteorologist Drew Lerner.   With decades of experience forecasting weather trends for agriculture\, Drew will provide crucial insights to help you plan ahead for the 2025 growing season.\nMarket Outlook by Farm Credit Canada\nFocus group: “Does it Pay?”\n\nReserve your FREE spot today. \n  \nProudly Sponsored by FCC and Peace Region Living Lab
URL:https://peaceforage.bc.ca/event/weather-markets-through-the-looking-glass/
LOCATION:North Peace Cultural Center\, Meeting Room\, 10015 100 Ave\,\, Fort St John\,\, BC\, V1J 1Y7\, Canada
ORGANIZER;CN="Nadia Mori":MAILTO:coordinator@peaceforage.bc.ca
END:VEVENT
END:VCALENDAR