BEGIN:VCALENDAR
VERSION:2.0
PRODID:-//Peace River Forage Association - ECPv6.15.14//NONSGML v1.0//EN
CALSCALE:GREGORIAN
METHOD:PUBLISH
X-WR-CALNAME:Peace River Forage Association
X-ORIGINAL-URL:https://peaceforage.bc.ca
X-WR-CALDESC:Events for Peace River Forage Association
REFRESH-INTERVAL;VALUE=DURATION:PT1H
X-Robots-Tag:noindex
X-PUBLISHED-TTL:PT1H
BEGIN:VTIMEZONE
TZID:America/Dawson_Creek
BEGIN:STANDARD
TZOFFSETFROM:-0700
TZOFFSETTO:-0700
TZNAME:MST
DTSTART:20230101T000000
END:STANDARD
END:VTIMEZONE
BEGIN:VEVENT
DTSTART;TZID=America/Dawson_Creek:20241024T090000
DTEND;TZID=America/Dawson_Creek:20241024T160000
DTSTAMP:20260422T055744
CREATED:20240928T212901Z
LAST-MODIFIED:20241022T194623Z
UID:7248-1729760400-1729785600@peaceforage.bc.ca
SUMMARY:CowBytes Training
DESCRIPTION:Want to make sure your cows are getting all the nutrients they need from the feed you have?  Learn about how to use CowBytes software to balance your feed rations with cattle nutritionist Barry Yaremcio.\nCowBytes Training\, Oct 24th\, from 9am-4pm in FSJ. \nHands-on\, practical & go home with a ration built for your operation.  Barry will teach the software program and formulate rations with participants. \nLocation: Pomeroy Hotel in Fort St John in the Kenny Ballroom (located on the ground level; take a left turn when you get into the hotel and go down the hallway until you reach the Kenny Ballroom towards the end of the hallway).  Google pin: https://maps.app.goo.gl/qXCcS1TrzhAjGYnh7 \nPlease bring your laptop (necessary) and feed test results (optional). \n  \nPlease purchase the CowBytes Software separately & install on your laptop prior to the training. \n\nDo not worry if you do not receive your copy of cowbytes before the training as Barry Yaremcio can provide you with a training copy for the workshop.  You will then be able to use your own registered copy as soon as it arrives in the mail. \nCowBytes ration-balancing software allows beef cattle producers to formulate their own feed rations.  The software will be delivered on a USB flash drive via regular mail. The $60 fee includes GST/HST and shipping.  Current estimated delivery for Canadian orders: 3 weeks\n\n  \n \n 
URL:https://peaceforage.bc.ca/event/cowbytestraining/
LOCATION:Pomeroy Hotel in Fort St John (Kenny Ballroom)\, 11308 Alaska Rd N\,\, Fort St John\, British Columbia\, V1J 5T5\, Canada
ORGANIZER;CN="Nadia Mori":MAILTO:coordinator@peaceforage.bc.ca
END:VEVENT
END:VCALENDAR