BEGIN:VCALENDAR
VERSION:2.0
PRODID:-//Peace River Forage Association - ECPv6.15.14//NONSGML v1.0//EN
CALSCALE:GREGORIAN
METHOD:PUBLISH
X-ORIGINAL-URL:https://peaceforage.bc.ca
X-WR-CALDESC:Events for Peace River Forage Association
REFRESH-INTERVAL;VALUE=DURATION:PT1H
X-Robots-Tag:noindex
X-PUBLISHED-TTL:PT1H
BEGIN:VTIMEZONE
TZID:America/Dawson_Creek
BEGIN:STANDARD
TZOFFSETFROM:-0700
TZOFFSETTO:-0700
TZNAME:MST
DTSTART:20230101T000000
END:STANDARD
END:VTIMEZONE
BEGIN:VEVENT
DTSTART;TZID=America/Dawson_Creek:20240806T190000
DTEND;TZID=America/Dawson_Creek:20240806T210000
DTSTAMP:20260422T083700
CREATED:20240316T041533Z
LAST-MODIFIED:20240808T203252Z
UID:6298-1722970800-1722978000@peaceforage.bc.ca
SUMMARY:AUG 6TH: GRAZING SERIES\, Glenn Hogberg\, Progress area
DESCRIPTION:EVENING PASTURE WALK AND TALK regarding suppressing aspen regrowth and pasture watering systems.   \nMembers please RSVP and see maps below the poster. \nNon-members please register for the evening ($20) \n \nYard Site is 2 miles south of Hwy 97 (Hart Hwy) on road 259 (across the road from the Braden Road). \nPin for location:    https://maps.app.goo.gl/p87qB4gUyD9oNoUi9 \n \n  \nIf you are coming from Chetwynd: \n \nIf you are coming from Dawson Creek: \n \nIf you are coming from Fort St John: \n \n 
URL:https://peaceforage.bc.ca/event/auggrazingseries2024_aug6/
LOCATION:BC
ORGANIZER;CN="Nadia Mori":MAILTO:coordinator@peaceforage.bc.ca
END:VEVENT
BEGIN:VEVENT
DTSTART;TZID=America/Dawson_Creek:20240813T173000
DTEND;TZID=America/Dawson_Creek:20240813T210000
DTSTAMP:20260422T083700
CREATED:20240801T213826Z
LAST-MODIFIED:20240808T204439Z
UID:6912-1723570200-1723582800@peaceforage.bc.ca
SUMMARY:AUG 13TH: GRAZING SERIES\, Jack Thiessen\, Buick area\, 5:30pm
DESCRIPTION:FIRE WAGON (Wildfire Response Trailer) reveal/showcase\, and EVENING PASTURE WALK regarding benefits of prescribed fire & how to use it to control brush.   \n5.30pm Meet at Jack Thiessen field site\n\n6pm Trailer walk-through & refreshments\n\n6.30pm Wildfire Response Trailer Overview with Q&A\n\n7.30pm Wildfire protection through prescribed fire\n\n8pm Pasture walk on prescribed fire site\n\n9pm WrapUp\n\nMembers please RSVP and see maps below the poster.\nNon-members please register for the evening ($20) \n \nPin for location: https://maps.app.goo.gl/wrixLUoGhG4YDE69A\n  \nIf you are coming from Fort St John: \n \nIf you are coming from Chetwynd: \n \nIf you are coming from Dawson Creek: \n \n \n  \n  \n  \n 
URL:https://peaceforage.bc.ca/event/auggrazingseries2024_aug13/
LOCATION:BC
ORGANIZER;CN="Nadia Mori":MAILTO:coordinator@peaceforage.bc.ca
END:VEVENT
BEGIN:VEVENT
DTSTART;TZID=America/Dawson_Creek:20240820T190000
DTEND;TZID=America/Dawson_Creek:20240820T210000
DTSTAMP:20260422T083700
CREATED:20240801T224404Z
LAST-MODIFIED:20240819T171302Z
UID:6922-1724180400-1724187600@peaceforage.bc.ca
SUMMARY:AUG 20TH: GRAZING SERIES\, Ben Harrington & Tara Holmes\, Cecil Lake area
DESCRIPTION:LOCATION UPDATE:  Here is a pin to where you will turn off the Siphon Creek Road to access the pasture (https://maps.app.goo.gl/taky1dhkDH1FWvJr8) and the pin to the pasture meeting point (https://maps.app.goo.gl/F7hzzcmXs1tktAyv7).   Where you turn off the Siphon Creek Road is approximately 1/2 a mile south and 1/2 a mile west of their yard site\, which was the old meeting location. \n \n  \nEVENING PASTURE WALK AND TALK timed grazing based on plant growth and continuous forage rejuvenation.   \nMembers please RSVP and see maps below the poster. \nNon-members please register for the evening ($20) \n \n  \nPin for location:  https://maps.app.goo.gl/A3CbVDp2C3t7jrsv7 \n  \n \nIf you are coming from Fort St John: \n \nIf you are coming from Chetwynd: \n \n  \nIf you are coming from Dawson Creek: \n  \n \n 
URL:https://peaceforage.bc.ca/event/auggrazingseries2024_aug20/
LOCATION:BC
ORGANIZER;CN="Nadia Mori":MAILTO:coordinator@peaceforage.bc.ca
END:VEVENT
BEGIN:VEVENT
DTSTART;TZID=America/Dawson_Creek:20240827T180000
DTEND;TZID=America/Dawson_Creek:20240827T210000
DTSTAMP:20260422T083700
CREATED:20240802T182947Z
LAST-MODIFIED:20240827T011039Z
UID:6951-1724781600-1724792400@peaceforage.bc.ca
SUMMARY:AUG 27TH: GRAZING SERIES\, Supper/Social/Cover Crops (6pm start)\, Dawson Creek
DESCRIPTION:SUPPER & SOCIAL at South Peace Grain in Dawson Creek with discussions on cover crops and how they can fit into livestock operations.  Starts at 6pm. \nMembers please RSVP and see maps below the poster. \nNon-members please register for the evening ($20) \n \n  \nPin for location: https://maps.app.goo.gl/qMLaMNfjL53Gy5HD9 \n \n  \nIf you are coming from Fort St John: \n \n  \nIf you are coming from Chetwynd: \n \n 
URL:https://peaceforage.bc.ca/event/auggrazingseries2024_aug27th/
LOCATION:BC
ORGANIZER;CN="Nadia Mori":MAILTO:coordinator@peaceforage.bc.ca
END:VEVENT
END:VCALENDAR