BEGIN:VCALENDAR
VERSION:2.0
PRODID:-//Peace River Forage Association - ECPv6.15.14//NONSGML v1.0//EN
CALSCALE:GREGORIAN
METHOD:PUBLISH
X-WR-CALNAME:Peace River Forage Association
X-ORIGINAL-URL:https://peaceforage.bc.ca
X-WR-CALDESC:Events for Peace River Forage Association
REFRESH-INTERVAL;VALUE=DURATION:PT1H
X-Robots-Tag:noindex
X-PUBLISHED-TTL:PT1H
BEGIN:VTIMEZONE
TZID:America/Dawson_Creek
BEGIN:STANDARD
TZOFFSETFROM:-0700
TZOFFSETTO:-0700
TZNAME:MST
DTSTART:20220101T000000
END:STANDARD
END:VTIMEZONE
BEGIN:VEVENT
DTSTART;VALUE=DATE:20230731
DTEND;VALUE=DATE:20230803
DTSTAMP:20260422T234408
CREATED:20230324T224402Z
LAST-MODIFIED:20230715T163719Z
UID:4880-1690761600-1691020799@peaceforage.bc.ca
SUMMARY:Fort Nelson Ag Knowledge Tour (Postponed to 2024)
DESCRIPTION:This tour has been posponed until 2024\n \nHop on the bus as we journey to Fort Nelson for a 3-day road trip full of activities.\nA unique opportunity to see agricultural production & vermicomposting processes in Ft Nelson to strengthen collaboration between our two regional districts. \nFrom banana trees and geothermal heating to prescribed fire managment and large-scale vermicomposting in extreme northern climates. \nWe will visit a number of operations and learn about agriculture in Fort Nelson through peer-to-peer learning. \nMark your calendars and join us to learn from fellow producers!\n  \n  \nIf you are interested in supporting this event please contact Nadia Mori (coordinator@peaceforage.bc.ca\, or toll free 1-866-516-3101).\nWe are looking for the following sponsors: \n\n\n\nSnack sponsor\n$250\n\n\nLunch sponsor\n$500\n\n\nKnowledge stop sponsor (speaker fee)\n$750\n\n\nSupport a bus wheel\n$1\,000\n\n\n\n \n \n  \n  \n  \n 
URL:https://peaceforage.bc.ca/event/fort-nelson-ag-knowledge-tour/
LOCATION:BC
ATTACH;FMTTYPE=image/png:https://peaceforage.bc.ca/wp-content/uploads/2023/03/2023_PRFAFtNelsonAgTour_featureimageclip.png
ORGANIZER;CN="Nadia Mori":MAILTO:coordinator@peaceforage.bc.ca
END:VEVENT
BEGIN:VEVENT
DTSTART;TZID=America/Dawson_Creek:20230808T190000
DTEND;TZID=America/Dawson_Creek:20230808T210000
DTSTAMP:20260422T234408
CREATED:20230804T002556Z
LAST-MODIFIED:20230804T002556Z
UID:5288-1691521200-1691528400@peaceforage.bc.ca
SUMMARY:AUG 8th Grazing Management Series: Pastures & Drought
DESCRIPTION:To attend please RSVP (members) or purchase a ticket (non-members). \nClick here for a pin to the location: https://goo.gl/maps/A53QXyTvLD1TKHoC9\n14 km east of Dawson Creek: head east on hwy to Spirit River\, turn north on 203Rd\, go 1/2 mile\, field on west side.
URL:https://peaceforage.bc.ca/event/aug-8th-grazing-management-series-pastures-drought/
LOCATION:BC
ATTACH;FMTTYPE=image/png:https://peaceforage.bc.ca/wp-content/uploads/2023/08/2023AugGrazSeries_FeatureImage_Aug8.png
ORGANIZER;CN="Nadia Mori":MAILTO:coordinator@peaceforage.bc.ca
END:VEVENT
BEGIN:VEVENT
DTSTART;TZID=America/Dawson_Creek:20230815T190000
DTEND;TZID=America/Dawson_Creek:20230815T210000
DTSTAMP:20260422T234408
CREATED:20230804T004249Z
LAST-MODIFIED:20230815T203055Z
UID:5297-1692126000-1692133200@peaceforage.bc.ca
SUMMARY:AUG 15th Grazing Management Series: Bugs\, Insects & Pests
DESCRIPTION:To attend please RSVP (members) or purchase a ticket (non-members). \nPlease no outside dogs.\nClick here for a pin to the location: https://goo.gl/maps/DAUtUJsrMYJ9vcMVA \n \n \n \n 
URL:https://peaceforage.bc.ca/event/aug-15th-grazing-management-series-bugs-insects-pests/
LOCATION:BC
ATTACH;FMTTYPE=image/png:https://peaceforage.bc.ca/wp-content/uploads/2023/08/2023AugGrazSeries_FeatureImage_Aug15.png
ORGANIZER;CN="Nadia Mori":MAILTO:coordinator@peaceforage.bc.ca
END:VEVENT
BEGIN:VEVENT
DTSTART;TZID=America/Dawson_Creek:20230822T190000
DTEND;TZID=America/Dawson_Creek:20230822T210000
DTSTAMP:20260422T234408
CREATED:20230804T005128Z
LAST-MODIFIED:20230815T201709Z
UID:5304-1692730800-1692738000@peaceforage.bc.ca
SUMMARY:AUG 22nd Grazing Management Series: Electric Fencing Tips & Tricks
DESCRIPTION:To attend please RSVP (members) or purchase a ticket (non-members). \nClick here for a pin to the location: https://goo.gl/maps/6M6c2kDzPRPCjExA8 \n \n  \n  \n \n \n  \n  \n 
URL:https://peaceforage.bc.ca/event/aug-22nd-grazing-management-series-electric-fencing-tips-tricks/
LOCATION:BC
ATTACH;FMTTYPE=image/png:https://peaceforage.bc.ca/wp-content/uploads/2023/08/2023AugGrazSeries_FeatureImage_Aug22.png
ORGANIZER;CN="Nadia Mori":MAILTO:coordinator@peaceforage.bc.ca
END:VEVENT
BEGIN:VEVENT
DTSTART;TZID=America/Dawson_Creek:20230829T190000
DTEND;TZID=America/Dawson_Creek:20230829T210000
DTSTAMP:20260422T234408
CREATED:20230804T212940Z
LAST-MODIFIED:20230829T184101Z
UID:5310-1693335600-1693342800@peaceforage.bc.ca
SUMMARY:AUG 29th Grazing Management Series: Diagnosing Old Stands & Rotational Grazing with Sheep
DESCRIPTION:To attend please RSVP (members) or purchase a ticket (non-members). \nPlease click here for a pin to the location: https://goo.gl/maps/AwtT226Cynh4BNVg6.\nIf you enter the 911 address into Google maps it will take you to the Arras Firehall (which is 1.75 miles further west). \n \n \n \n  \n 
URL:https://peaceforage.bc.ca/event/aug-29th-grazing-management-series-diagnosing-old-stands-rotational-grazing-with-sheep/
LOCATION:BC
ATTACH;FMTTYPE=image/png:https://peaceforage.bc.ca/wp-content/uploads/2023/08/2023AugGrazSeries_FeatureImage_Aug29.png
ORGANIZER;CN="Nadia Mori":MAILTO:coordinator@peaceforage.bc.ca
END:VEVENT
END:VCALENDAR