BEGIN:VCALENDAR
VERSION:2.0
PRODID:-//Peace River Forage Association - ECPv6.15.14//NONSGML v1.0//EN
CALSCALE:GREGORIAN
METHOD:PUBLISH
X-WR-CALNAME:Peace River Forage Association
X-ORIGINAL-URL:https://peaceforage.bc.ca
X-WR-CALDESC:Events for Peace River Forage Association
REFRESH-INTERVAL;VALUE=DURATION:PT1H
X-Robots-Tag:noindex
X-PUBLISHED-TTL:PT1H
BEGIN:VTIMEZONE
TZID:America/Dawson_Creek
BEGIN:STANDARD
TZOFFSETFROM:-0700
TZOFFSETTO:-0700
TZNAME:MST
DTSTART:20240101T000000
END:STANDARD
END:VTIMEZONE
BEGIN:VEVENT
DTSTART;TZID=America/Dawson_Creek:20250805T190000
DTEND;TZID=America/Dawson_Creek:20250826T210000
DTSTAMP:20260419T225608
CREATED:20250527T214805Z
LAST-MODIFIED:20250527T215932Z
UID:8261-1754420400-1756242000@peaceforage.bc.ca
SUMMARY:AUGUST Grazing Series
DESCRIPTION:Back for another summer: AUG Grazing Series \nTuesday evening pasture walks & learning from other ranchers/farmers. \nSAVE THE DATES: Aug 5th\, Aug 12th\, Aug 19th and Aug 26th \nMore information and registration will be available the end of June. \n \n 
URL:https://peaceforage.bc.ca/event/august-grazing-series/
LOCATION:BC
END:VEVENT
BEGIN:VEVENT
DTSTART;TZID=America/Dawson_Creek:20250819T183000
DTEND;TZID=America/Dawson_Creek:20250819T210000
DTSTAMP:20260419T225608
CREATED:20250814T055656Z
LAST-MODIFIED:20250814T070603Z
UID:8562-1755628200-1755637200@peaceforage.bc.ca
SUMMARY:AUG 19th: Brush Fire and Fire Wagon #2 @ Bear Mountain Community Pasture\, 6:30pm
DESCRIPTION:Wondering how prescribed fire can reduce brush encroachment?  Want to see what grew back and what didn’t after this spring’s prescribed fire? \nCome to Bear Mountain Community Pasture on Tuesday AUG 19th from 6:30-8:30pm\, for the third of our 4 evening events. \nWe will also showcase state of the art structural protection equipment available in the Peace and honour the late Keith Carroll. \nSite: Bear Mountain Community Pasture\, Arras (25km SW of DC).  Google Maps Pin: Bear Mountain Community Pasture – 2025 Prescribed Fire Site \nDriving: 25min (24km) min from Dawson Creek or 1 hr (77Km) from FSJ. \n  \n \n 
URL:https://peaceforage.bc.ca/event/aug-19th-brush-fire-and-fire-wagon-2-bear-mountain-community-pasture/
LOCATION:BC
ORGANIZER;CN="Nadia Mori":MAILTO:coordinator@peaceforage.bc.ca
END:VEVENT
END:VCALENDAR