BEGIN:VCALENDAR
VERSION:2.0
PRODID:-//Peace River Forage Association - ECPv6.15.14//NONSGML v1.0//EN
CALSCALE:GREGORIAN
METHOD:PUBLISH
X-WR-CALNAME:Peace River Forage Association
X-ORIGINAL-URL:https://peaceforage.bc.ca
X-WR-CALDESC:Events for Peace River Forage Association
REFRESH-INTERVAL;VALUE=DURATION:PT1H
X-Robots-Tag:noindex
X-PUBLISHED-TTL:PT1H
BEGIN:VTIMEZONE
TZID:America/Dawson_Creek
BEGIN:STANDARD
TZOFFSETFROM:-0700
TZOFFSETTO:-0700
TZNAME:MST
DTSTART:20240101T000000
END:STANDARD
END:VTIMEZONE
BEGIN:VEVENT
DTSTART;TZID=America/Dawson_Creek:20250619T100000
DTEND;TZID=America/Dawson_Creek:20250619T160000
DTSTAMP:20260420T104722
CREATED:20250527T192410Z
LAST-MODIFIED:20250616T181634Z
UID:8232-1750327200-1750348800@peaceforage.bc.ca
SUMMARY:2025 Pasture Tour (June 19th)
DESCRIPTION:Join us for a great day of all things forage – there will be something for everyone! \nHighlightling seeding\, winter feeding\, nutrient applications\, watering systems\, forest to forage and reclamation in Montney\, BC. \nLunch will be provided – please bring a lawn chair. \nCOME FOR THE INFORMATION AND ENJOY THE CAMARADERIE. \nPARKING: at the pullout on the 254 Rd. (Parking pin: https://maps.app.goo.gl/WzijNaTjFG7Cacdv5)\nCAR POOL to Starting location: from the parking pullout\, drive a little over a 1/2 mile east to the starting location – maps below. (Starting pin: https://maps.app.goo.gl/bckFx3KPASdxcXGg8) \n  \n \n  \n  \nPin to start Location (30min NW of FSJ): https://maps.app.goo.gl/bckFx3KPASdxcXGg8 \n \n \n \nPin to parking location: https://maps.app.goo.gl/WzijNaTjFG7Cacdv5 \nPin for starting location: https://maps.app.goo.gl/bckFx3KPASdxcXGg8 \n  \nThinking of becoming a member? Go to https://peaceforage.bc.ca/information/membership/ to learn about the benefits of Membership. \n 
URL:https://peaceforage.bc.ca/event/2025-pasture-tour-june-19th/
LOCATION:BC
ORGANIZER;CN="Nadia Mori":MAILTO:coordinator@peaceforage.bc.ca
END:VEVENT
END:VCALENDAR