BEGIN:VCALENDAR
VERSION:2.0
PRODID:-//Peace River Forage Association - ECPv6.15.14//NONSGML v1.0//EN
CALSCALE:GREGORIAN
METHOD:PUBLISH
X-ORIGINAL-URL:https://peaceforage.bc.ca
X-WR-CALDESC:Events for Peace River Forage Association
REFRESH-INTERVAL;VALUE=DURATION:PT1H
X-Robots-Tag:noindex
X-PUBLISHED-TTL:PT1H
BEGIN:VTIMEZONE
TZID:America/Dawson_Creek
BEGIN:STANDARD
TZOFFSETFROM:-0700
TZOFFSETTO:-0700
TZNAME:MST
DTSTART:20240101T000000
END:STANDARD
END:VTIMEZONE
BEGIN:VEVENT
DTSTART;TZID=America/Dawson_Creek:20250522T130000
DTEND;TZID=America/Dawson_Creek:20250524T170000
DTSTAMP:20260420T121127
CREATED:20250415T214513Z
LAST-MODIFIED:20250415T215759Z
UID:8151-1747918800-1748106000@peaceforage.bc.ca
SUMMARY:Chainsaw Level 1 Course\, May 22-23-24th\, Expression of Interest
DESCRIPTION:If you have an interest in taking a  Chainsaw Level 1 Course please select an “Expression of Interest in Chainsaw Level 1” ticket. \nThe training will take place on the afternoon of May 22nd\,  and all day May 23rd & 24th (2.5 day course). \nApprox cost would be around $1000
URL:https://peaceforage.bc.ca/event/chainsaw-level-1-course-may-22-23-24th-expression-of-interest/
LOCATION:BC
END:VEVENT
END:VCALENDAR