BEGIN:VCALENDAR
VERSION:2.0
PRODID:-//Peace River Forage Association - ECPv6.15.14//NONSGML v1.0//EN
CALSCALE:GREGORIAN
METHOD:PUBLISH
X-ORIGINAL-URL:https://peaceforage.bc.ca
X-WR-CALDESC:Events for Peace River Forage Association
REFRESH-INTERVAL;VALUE=DURATION:PT1H
X-Robots-Tag:noindex
X-PUBLISHED-TTL:PT1H
BEGIN:VTIMEZONE
TZID:America/Dawson_Creek
BEGIN:STANDARD
TZOFFSETFROM:-0700
TZOFFSETTO:-0700
TZNAME:MST
DTSTART:20240101T000000
END:STANDARD
END:VTIMEZONE
BEGIN:VEVENT
DTSTART;TZID=America/Dawson_Creek:20250520T090000
DTEND;TZID=America/Dawson_Creek:20250522T120000
DTSTAMP:20260420T121210
CREATED:20250415T214425Z
LAST-MODIFIED:20250522T214823Z
UID:8146-1747731600-1747915200@peaceforage.bc.ca
SUMMARY:Basic WILDLAND FIRE TRAINING\, May 20-22nd CANCELLED
DESCRIPTION:CANCELLED\nIncredible\, timely opportunity to (1) receive training on how to fight fire safely and (2) increase knowledge of fire & fire behaviour.\nThis is the ONLY Basic Fire Schools being offered by the Peace River Forage Association in 2025.\nThere are 14 seats available ($500/seat).\n2.5 day Basic Fire School:\n\nthe first day will be in-class (9am-5pm\, please pack a lunch).\nthe second day will be in-class and in the field (9am-5pm\, please pack a lunch).\nthe third day will be in the field (9am-12pm).\n\nTraining will be provided by Northern FireWoRx and will include ICS100\, S100 and S185 which are all the basic courses required by BC Wildfire Service standards. \n\nICS 100: Incident Command System 100\nS100 Basic Fire Suppression & Safety \nS185 Fire entrapment Avoidance\n\nDuring the Training: participants will complete written\, oral and field exams. \n \n\n\n\nPin for location: https://maps.app.goo.gl/u2MocDrxxvLkE8SX6\n\n\n\n\n\nDid you take a 2024 Fire Schools (aka Wildland Fire Training)?\nIn order to remain current with your S100 Certification\, please consider taking this quick online recertification course for $25.\n\n\nrecertification needs to be completed prior to the 1 year anniversary of the initial training.\nhttps://www.s100aonline.com/courses/s100a-firefighting-refresher-course-and-annual-re-certification-2025\n\n\n\n\n\n\nNot a member?  Please check out our Memberships at https://peaceforage.bc.ca/information/membership/.
URL:https://peaceforage.bc.ca/event/basic-wildland-fire-training-may2025/
LOCATION:BC
ORGANIZER;CN="Nadia Mori":MAILTO:coordinator@peaceforage.bc.ca
END:VEVENT
END:VCALENDAR