BEGIN:VCALENDAR
VERSION:2.0
PRODID:-//Peace River Forage Association - ECPv6.15.14//NONSGML v1.0//EN
CALSCALE:GREGORIAN
METHOD:PUBLISH
X-WR-CALNAME:Peace River Forage Association
X-ORIGINAL-URL:https://peaceforage.bc.ca
X-WR-CALDESC:Events for Peace River Forage Association
REFRESH-INTERVAL;VALUE=DURATION:PT1H
X-Robots-Tag:noindex
X-PUBLISHED-TTL:PT1H
BEGIN:VTIMEZONE
TZID:America/Dawson_Creek
BEGIN:STANDARD
TZOFFSETFROM:-0700
TZOFFSETTO:-0700
TZNAME:MST
DTSTART:20230101T000000
END:STANDARD
END:VTIMEZONE
BEGIN:VEVENT
DTSTART;TZID=America/Dawson_Creek:20240820T190000
DTEND;TZID=America/Dawson_Creek:20240820T210000
DTSTAMP:20260422T095515
CREATED:20240801T224404Z
LAST-MODIFIED:20240819T171302Z
UID:6922-1724180400-1724187600@peaceforage.bc.ca
SUMMARY:AUG 20TH: GRAZING SERIES\, Ben Harrington & Tara Holmes\, Cecil Lake area
DESCRIPTION:LOCATION UPDATE:  Here is a pin to where you will turn off the Siphon Creek Road to access the pasture (https://maps.app.goo.gl/taky1dhkDH1FWvJr8) and the pin to the pasture meeting point (https://maps.app.goo.gl/F7hzzcmXs1tktAyv7).   Where you turn off the Siphon Creek Road is approximately 1/2 a mile south and 1/2 a mile west of their yard site\, which was the old meeting location. \n \n  \nEVENING PASTURE WALK AND TALK timed grazing based on plant growth and continuous forage rejuvenation.   \nMembers please RSVP and see maps below the poster. \nNon-members please register for the evening ($20) \n \n  \nPin for location:  https://maps.app.goo.gl/A3CbVDp2C3t7jrsv7 \n  \n \nIf you are coming from Fort St John: \n \nIf you are coming from Chetwynd: \n \n  \nIf you are coming from Dawson Creek: \n  \n \n 
URL:https://peaceforage.bc.ca/event/auggrazingseries2024_aug20/
LOCATION:BC
ORGANIZER;CN="Nadia Mori":MAILTO:coordinator@peaceforage.bc.ca
END:VEVENT
END:VCALENDAR