BEGIN:VCALENDAR
VERSION:2.0
PRODID:-//Peace River Forage Association - ECPv6.15.14//NONSGML v1.0//EN
CALSCALE:GREGORIAN
METHOD:PUBLISH
X-ORIGINAL-URL:https://peaceforage.bc.ca
X-WR-CALDESC:Events for Peace River Forage Association
REFRESH-INTERVAL;VALUE=DURATION:PT1H
X-Robots-Tag:noindex
X-PUBLISHED-TTL:PT1H
BEGIN:VTIMEZONE
TZID:America/Dawson_Creek
BEGIN:STANDARD
TZOFFSETFROM:-0700
TZOFFSETTO:-0700
TZNAME:MST
DTSTART:20230101T000000
END:STANDARD
END:VTIMEZONE
BEGIN:VEVENT
DTSTART;TZID=America/Dawson_Creek:20240312T120000
DTEND;TZID=America/Dawson_Creek:20240312T130000
DTSTAMP:20260422T160735
CREATED:20240221T053157Z
LAST-MODIFIED:20240307T183314Z
UID:5851-1710244800-1710248400@peaceforage.bc.ca
SUMMARY:WEBINAR: Sod Seeding & Pasture Rejuvenation
DESCRIPTION:Listen to Adjunct Professor Dr Breeanna Kelln on March 12th.\nFREE  for Members. \nIf you aren’t a member please consider becoming one (https://peaceforage.bc.ca/information/membership/) \nWebinar Links will be emailed out to those who register on March 10th. \nMore from Dr Breeanna Kelln: introducting non-bloat legumes into existing stands article and a video with the Beef School on rejuvenating pasture with non-bloat legumes \nBreeanna was raised on a mixed farm and where she continues to farm with her husband and son near Duval\, Saskatchewan. For 15 years Breeanna worked in various industry roles involved in agronomy\, livestock\, and extension. Her PhD program focused on the inclusion of bloat-free legumes into existing pasture stands to improve productivity. This project used a systems approach to evaluate the effects of sod-seeded bloat-free legumes (sainfoin and cicer milkvetch) on pasture productivity\, animal performance\, rumen fermentation\, greenhouse gas emissions\, and system economics.
URL:https://peaceforage.bc.ca/event/webinar-sod-seedingandpasture-rejuvenation/
LOCATION:BC
ATTACH;FMTTYPE=image/png:https://peaceforage.bc.ca/wp-content/uploads/2024/02/SodSeedingWebinar_featureimage.png
ORGANIZER;CN="Nadia Mori":MAILTO:coordinator@peaceforage.bc.ca
END:VEVENT
END:VCALENDAR