BEGIN:VCALENDAR
VERSION:2.0
PRODID:-//Peace River Forage Association - ECPv6.15.14//NONSGML v1.0//EN
CALSCALE:GREGORIAN
METHOD:PUBLISH
X-WR-CALNAME:Peace River Forage Association
X-ORIGINAL-URL:https://peaceforage.bc.ca
X-WR-CALDESC:Events for Peace River Forage Association
REFRESH-INTERVAL;VALUE=DURATION:PT1H
X-Robots-Tag:noindex
X-PUBLISHED-TTL:PT1H
BEGIN:VTIMEZONE
TZID:America/Dawson_Creek
BEGIN:STANDARD
TZOFFSETFROM:-0700
TZOFFSETTO:-0700
TZNAME:MST
DTSTART:20230101T000000
END:STANDARD
END:VTIMEZONE
BEGIN:VEVENT
DTSTART;TZID=America/Dawson_Creek:20240110T190000
DTEND;TZID=America/Dawson_Creek:20240110T200000
DTSTAMP:20260422T183825
CREATED:20231221T230424Z
LAST-MODIFIED:20231221T230424Z
UID:5678-1704913200-1704916800@peaceforage.bc.ca
SUMMARY:Introduction to Grant Writing
DESCRIPTION:Have a project on the farm and want some $ help?\nSAVE THE DATE: JAN 10TH to learn about Grants.\nFor more INFO and to REGISTER: please go to https://www.eventbrite.ca/e/an-introduction-to-grant-writing-tickets-778750863797\nJan 10th Grant Writing Webinar Poster with Links
URL:https://peaceforage.bc.ca/event/introduction-to-grant-writing/
LOCATION:BC
ORGANIZER;CN="Nadia Mori":MAILTO:coordinator@peaceforage.bc.ca
END:VEVENT
END:VCALENDAR