BEGIN:VCALENDAR
VERSION:2.0
PRODID:-//Peace River Forage Association - ECPv6.15.14//NONSGML v1.0//EN
CALSCALE:GREGORIAN
METHOD:PUBLISH
X-WR-CALNAME:Peace River Forage Association
X-ORIGINAL-URL:https://peaceforage.bc.ca
X-WR-CALDESC:Events for Peace River Forage Association
REFRESH-INTERVAL;VALUE=DURATION:PT1H
X-Robots-Tag:noindex
X-PUBLISHED-TTL:PT1H
BEGIN:VTIMEZONE
TZID:America/Dawson_Creek
BEGIN:STANDARD
TZOFFSETFROM:-0700
TZOFFSETTO:-0700
TZNAME:MST
DTSTART:20220101T000000
END:STANDARD
END:VTIMEZONE
BEGIN:VEVENT
DTSTART;TZID=America/Dawson_Creek:20230621T170000
DTEND;TZID=America/Dawson_Creek:20230621T193000
DTSTAMP:20260423T031942
CREATED:20230324T220946Z
LAST-MODIFIED:20230523T225113Z
UID:4875-1687366800-1687375800@peaceforage.bc.ca
SUMMARY:Find Your Roots
DESCRIPTION:Calling all Youth\, 4H and Families.\nJoin us for a scavenger hunt\, plant ID\, rock painting and guessing games – what’s not to love!\nThis event is a family friendly summer outing. \nMark your calendar and RSVP.\n\n  \nIf you are interested in supporting this event please contact Ella Bennett (prfaevent@gmail.com\, or toll free 1-866-516-3101).\nWe are looking for the following sponsors: \n\nScavenger Hunt & Plant ID\, Games and Painting sponsor: $250\nTreats Sponsor: $50\nHall Sponsor: $150
URL:https://peaceforage.bc.ca/event/find-your-roots/
LOCATION:Montney Hall\, 12401 256 Rd\, Montney\, 12401 256 Rd\, Montney\, BC\, V0C 1Y0
ATTACH;FMTTYPE=image/png:https://peaceforage.bc.ca/wp-content/uploads/2023/05/2023_June21_FindYourRoots_featureimageclip.png
ORGANIZER;CN="Nadia Mori":MAILTO:coordinator@peaceforage.bc.ca
END:VEVENT
END:VCALENDAR